BEGIN:VCALENDAR
VERSION:2.0
PRODID:-//Kenora Scottish - ECPv6.15.20//NONSGML v1.0//EN
CALSCALE:GREGORIAN
METHOD:PUBLISH
X-WR-CALNAME:Kenora Scottish
X-ORIGINAL-URL:https://kenorascottish.org
X-WR-CALDESC:Events for Kenora Scottish
REFRESH-INTERVAL;VALUE=DURATION:PT1H
X-Robots-Tag:noindex
X-PUBLISHED-TTL:PT1H
BEGIN:VTIMEZONE
TZID:America/Winnipeg
BEGIN:DAYLIGHT
TZOFFSETFROM:-0600
TZOFFSETTO:-0500
TZNAME:CDT
DTSTART:20220313T080000
END:DAYLIGHT
BEGIN:STANDARD
TZOFFSETFROM:-0500
TZOFFSETTO:-0600
TZNAME:CST
DTSTART:20221106T070000
END:STANDARD
BEGIN:DAYLIGHT
TZOFFSETFROM:-0600
TZOFFSETTO:-0500
TZNAME:CDT
DTSTART:20230312T080000
END:DAYLIGHT
BEGIN:STANDARD
TZOFFSETFROM:-0500
TZOFFSETTO:-0600
TZNAME:CST
DTSTART:20231105T070000
END:STANDARD
BEGIN:DAYLIGHT
TZOFFSETFROM:-0600
TZOFFSETTO:-0500
TZNAME:CDT
DTSTART:20240310T080000
END:DAYLIGHT
BEGIN:STANDARD
TZOFFSETFROM:-0500
TZOFFSETTO:-0600
TZNAME:CST
DTSTART:20241103T070000
END:STANDARD
BEGIN:DAYLIGHT
TZOFFSETFROM:-0600
TZOFFSETTO:-0500
TZNAME:CDT
DTSTART:20250309T080000
END:DAYLIGHT
BEGIN:STANDARD
TZOFFSETFROM:-0500
TZOFFSETTO:-0600
TZNAME:CST
DTSTART:20251102T070000
END:STANDARD
END:VTIMEZONE
BEGIN:VEVENT
DTSTART;TZID=America/Winnipeg:20240611T180000
DTEND;TZID=America/Winnipeg:20240611T193000
DTSTAMP:20260424T002315
CREATED:20240510T151634Z
LAST-MODIFIED:20240510T151634Z
UID:2989-1718128800-1718134200@kenorascottish.org
SUMMARY:Annual Cadet Review
DESCRIPTION:Annual Cadet Review – Private David Kejick\, DCM\, Armoury\, Kenora
URL:https://kenorascottish.org/event/annual-cadet-review/
LOCATION:David Kejick Armouries\, 116 Artillery Way\, Kenora\, Ontario\, Canada
CATEGORIES:Celebrations,Parades
END:VEVENT
BEGIN:VEVENT
DTSTART;TZID=America/Winnipeg:20240610T183000
DTEND;TZID=America/Winnipeg:20240610T203000
DTSTAMP:20260424T002315
CREATED:20240510T150953Z
LAST-MODIFIED:20240510T150953Z
UID:2981-1718044200-1718051400@kenorascottish.org
SUMMARY:Band Practice
DESCRIPTION:Band Practice
URL:https://kenorascottish.org/event/band-practice-127/
LOCATION:David Kejick Armouries\, 116 Artillery Way\, Kenora\, Ontario\, Canada
CATEGORIES:Practice
END:VEVENT
BEGIN:VEVENT
DTSTART;TZID=America/Winnipeg:20240604T183000
DTEND;TZID=America/Winnipeg:20240604T203000
DTSTAMP:20260424T002315
CREATED:20240531T144820Z
LAST-MODIFIED:20240531T144820Z
UID:3014-1717525800-1717533000@kenorascottish.org
SUMMARY:Band Practice - with Cadets
DESCRIPTION:Band Practice with the Cadets prior to the ACR
URL:https://kenorascottish.org/event/band-practice-with-cadets/
LOCATION:David Kejick Armouries\, 116 Artillery Way\, Kenora\, Ontario\, Canada
CATEGORIES:Practice
END:VEVENT
BEGIN:VEVENT
DTSTART;TZID=America/Winnipeg:20240603T183000
DTEND;TZID=America/Winnipeg:20240603T203000
DTSTAMP:20260424T002315
CREATED:20240510T150928Z
LAST-MODIFIED:20240510T150928Z
UID:2979-1717439400-1717446600@kenorascottish.org
SUMMARY:Band Practice
DESCRIPTION:Band Practice
URL:https://kenorascottish.org/event/band-practice-126/
LOCATION:David Kejick Armouries\, 116 Artillery Way\, Kenora\, Ontario\, Canada
CATEGORIES:Practice
END:VEVENT
BEGIN:VEVENT
DTSTART;TZID=America/Winnipeg:20240527T183000
DTEND;TZID=America/Winnipeg:20240527T203000
DTSTAMP:20260424T002315
CREATED:20240501T160839Z
LAST-MODIFIED:20240501T160839Z
UID:2973-1716834600-1716841800@kenorascottish.org
SUMMARY:Band Practice
DESCRIPTION:Band Practice
URL:https://kenorascottish.org/event/band-practice-125/
LOCATION:David Kejick Armouries\, 116 Artillery Way\, Kenora\, Ontario\, Canada
CATEGORIES:Practice
END:VEVENT
BEGIN:VEVENT
DTSTART;VALUE=DATE:20240520
DTEND;VALUE=DATE:20240521
DTSTAMP:20260424T002315
CREATED:20240501T160804Z
LAST-MODIFIED:20240501T161353Z
UID:2971-1716163200-1716249599@kenorascottish.org
SUMMARY:Band Practice - CANCELLED
DESCRIPTION:Band Practice- CANCELLED
URL:https://kenorascottish.org/event/band-practice-cancelled-34/
LOCATION:David Kejick Armouries\, 116 Artillery Way\, Kenora\, Ontario\, Canada
CATEGORIES:Practice
END:VEVENT
BEGIN:VEVENT
DTSTART;TZID=America/Winnipeg:20240513T183000
DTEND;TZID=America/Winnipeg:20240513T203000
DTSTAMP:20260424T002315
CREATED:20240501T160717Z
LAST-MODIFIED:20240513T124546Z
UID:2969-1715625000-1715632200@kenorascottish.org
SUMMARY:Band Practice - CANCELLED
DESCRIPTION:Band Practice – CANCELLED
URL:https://kenorascottish.org/event/band-practice-124/
LOCATION:David Kejick Armouries\, 116 Artillery Way\, Kenora\, Ontario\, Canada
CATEGORIES:Practice
END:VEVENT
BEGIN:VEVENT
DTSTART;TZID=America/Winnipeg:20240511T093000
DTEND;TZID=America/Winnipeg:20240511T153000
DTSTAMP:20260424T002315
CREATED:20240501T160940Z
LAST-MODIFIED:20240501T160940Z
UID:2975-1715419800-1715441400@kenorascottish.org
SUMMARY:Band Workshop
DESCRIPTION:Band Workshop – with Wes Sheppard
URL:https://kenorascottish.org/event/band-workshop-5/
LOCATION:David Kejick Armouries\, 116 Artillery Way\, Kenora\, Ontario\, Canada
CATEGORIES:Practice,Workshop
END:VEVENT
BEGIN:VEVENT
DTSTART;TZID=America/Winnipeg:20240506T183000
DTEND;TZID=America/Winnipeg:20240506T203000
DTSTAMP:20260424T002315
CREATED:20240501T160634Z
LAST-MODIFIED:20240501T160634Z
UID:2967-1715020200-1715027400@kenorascottish.org
SUMMARY:Band Practice
DESCRIPTION:Band Practice
URL:https://kenorascottish.org/event/band-practice-123/
LOCATION:David Kejick Armouries\, 116 Artillery Way\, Kenora\, Ontario\, Canada
CATEGORIES:Practice
END:VEVENT
BEGIN:VEVENT
DTSTART;TZID=America/Winnipeg:20240429T183000
DTEND;TZID=America/Winnipeg:20240429T203000
DTSTAMP:20260424T002315
CREATED:20240325T135049Z
LAST-MODIFIED:20240325T135049Z
UID:2962-1714415400-1714422600@kenorascottish.org
SUMMARY:Band Practice
DESCRIPTION:Band Practice
URL:https://kenorascottish.org/event/band-practice-122/
LOCATION:David Kejick Armouries\, 116 Artillery Way\, Kenora\, Ontario\, Canada
CATEGORIES:Practice
END:VEVENT
BEGIN:VEVENT
DTSTART;TZID=America/Winnipeg:20240422T183000
DTEND;TZID=America/Winnipeg:20240422T203000
DTSTAMP:20260424T002315
CREATED:20240325T135020Z
LAST-MODIFIED:20240325T135020Z
UID:2960-1713810600-1713817800@kenorascottish.org
SUMMARY:Band Practice
DESCRIPTION:Band Practice
URL:https://kenorascottish.org/event/band-practice-121/
LOCATION:David Kejick Armouries\, 116 Artillery Way\, Kenora\, Ontario\, Canada
CATEGORIES:Practice
END:VEVENT
BEGIN:VEVENT
DTSTART;TZID=America/Winnipeg:20240415T183000
DTEND;TZID=America/Winnipeg:20240415T203000
DTSTAMP:20260424T002315
CREATED:20240325T134956Z
LAST-MODIFIED:20240325T134956Z
UID:2958-1713205800-1713213000@kenorascottish.org
SUMMARY:Band Practice
DESCRIPTION:Band Practice
URL:https://kenorascottish.org/event/band-practice-120/
LOCATION:David Kejick Armouries\, 116 Artillery Way\, Kenora\, Ontario\, Canada
CATEGORIES:Practice
END:VEVENT
BEGIN:VEVENT
DTSTART;TZID=America/Winnipeg:20240408T183000
DTEND;TZID=America/Winnipeg:20240408T203000
DTSTAMP:20260424T002315
CREATED:20240325T134925Z
LAST-MODIFIED:20240325T134925Z
UID:2956-1712601000-1712608200@kenorascottish.org
SUMMARY:Band Practice
DESCRIPTION:Band Practice
URL:https://kenorascottish.org/event/band-practice-119/
LOCATION:David Kejick Armouries\, 116 Artillery Way\, Kenora\, Ontario\, Canada
CATEGORIES:Practice
END:VEVENT
BEGIN:VEVENT
DTSTART;TZID=America/Winnipeg:20240401T183000
DTEND;TZID=America/Winnipeg:20240401T203000
DTSTAMP:20260424T002315
CREATED:20240325T134843Z
LAST-MODIFIED:20240325T134843Z
UID:2954-1711996200-1712003400@kenorascottish.org
SUMMARY:Band Practice - CANCELLED
DESCRIPTION:Band Practice – CANCELLED
URL:https://kenorascottish.org/event/band-practice-cancelled-33/
LOCATION:David Kejick Armouries\, 116 Artillery Way\, Kenora\, Ontario\, Canada
CATEGORIES:Practice
END:VEVENT
BEGIN:VEVENT
DTSTART;TZID=America/Winnipeg:20240325T183000
DTEND;TZID=America/Winnipeg:20240325T203000
DTSTAMP:20260424T002315
CREATED:20240227T200000Z
LAST-MODIFIED:20240227T200000Z
UID:2941-1711391400-1711398600@kenorascottish.org
SUMMARY:Band Practice
DESCRIPTION:Band Practice
URL:https://kenorascottish.org/event/band-practice-118/
LOCATION:David Kejick Armouries\, 116 Artillery Way\, Kenora\, Ontario\, Canada
CATEGORIES:Practice
END:VEVENT
BEGIN:VEVENT
DTSTART;TZID=America/Winnipeg:20240318T183000
DTEND;TZID=America/Winnipeg:20240318T203000
DTSTAMP:20260424T002315
CREATED:20240227T195930Z
LAST-MODIFIED:20240227T195930Z
UID:2939-1710786600-1710793800@kenorascottish.org
SUMMARY:Band Practice
DESCRIPTION:Band Practice
URL:https://kenorascottish.org/event/band-practice-117/
LOCATION:David Kejick Armouries\, 116 Artillery Way\, Kenora\, Ontario\, Canada
CATEGORIES:Practice
END:VEVENT
BEGIN:VEVENT
DTSTART;TZID=America/Winnipeg:20240316T093000
DTEND;TZID=America/Winnipeg:20240316T153000
DTSTAMP:20260424T002315
CREATED:20240315T170030Z
LAST-MODIFIED:20240315T170250Z
UID:2950-1710581400-1710603000@kenorascottish.org
SUMMARY:Band Workshop
DESCRIPTION:Band Workshop – with Wes Sheppard & Dave Chorney
URL:https://kenorascottish.org/event/band-workshop-4/
LOCATION:David Kejick Armouries\, 116 Artillery Way\, Kenora\, Ontario\, Canada
CATEGORIES:Practice,Workshop
END:VEVENT
BEGIN:VEVENT
DTSTART;TZID=America/Winnipeg:20240311T183000
DTEND;TZID=America/Winnipeg:20240311T203000
DTSTAMP:20260424T002315
CREATED:20240227T195858Z
LAST-MODIFIED:20240227T195858Z
UID:2937-1710181800-1710189000@kenorascottish.org
SUMMARY:Band Practice
DESCRIPTION:Band Practice
URL:https://kenorascottish.org/event/band-practice-116/
LOCATION:David Kejick Armouries\, 116 Artillery Way\, Kenora\, Ontario\, Canada
CATEGORIES:Practice
END:VEVENT
BEGIN:VEVENT
DTSTART;TZID=America/Winnipeg:20240304T183000
DTEND;TZID=America/Winnipeg:20240304T203000
DTSTAMP:20260424T002315
CREATED:20240227T195828Z
LAST-MODIFIED:20240227T195828Z
UID:2935-1709577000-1709584200@kenorascottish.org
SUMMARY:Band Practice
DESCRIPTION:Band Practice
URL:https://kenorascottish.org/event/band-practice-115/
LOCATION:David Kejick Armouries\, 116 Artillery Way\, Kenora\, Ontario\, Canada
CATEGORIES:Practice
END:VEVENT
BEGIN:VEVENT
DTSTART;TZID=America/Winnipeg:20240226T183000
DTEND;TZID=America/Winnipeg:20240226T203000
DTSTAMP:20260424T002315
CREATED:20240204T235411Z
LAST-MODIFIED:20240227T195743Z
UID:2912-1708972200-1708979400@kenorascottish.org
SUMMARY:Band Practice - CANCELLED
DESCRIPTION:Band Practice – CANCELLED
URL:https://kenorascottish.org/event/band-practice-114/
LOCATION:David Kejick Armouries\, 116 Artillery Way\, Kenora\, Ontario\, Canada
CATEGORIES:Practice
END:VEVENT
BEGIN:VEVENT
DTSTART;TZID=America/Winnipeg:20240219T183000
DTEND;TZID=America/Winnipeg:20240219T203000
DTSTAMP:20260424T002315
CREATED:20240204T235440Z
LAST-MODIFIED:20240204T235440Z
UID:2914-1708367400-1708374600@kenorascottish.org
SUMMARY:Band Practice - CANCELLED
DESCRIPTION:Band Practice – CANCELLED
URL:https://kenorascottish.org/event/band-practice-cancelled-32/
LOCATION:David Kejick Armouries\, 116 Artillery Way\, Kenora\, Ontario\, Canada
CATEGORIES:Practice
END:VEVENT
BEGIN:VEVENT
DTSTART;TZID=America/Winnipeg:20240212T183000
DTEND;TZID=America/Winnipeg:20240212T203000
DTSTAMP:20260424T002315
CREATED:20240204T235246Z
LAST-MODIFIED:20240204T235246Z
UID:2910-1707762600-1707769800@kenorascottish.org
SUMMARY:Band Practice
DESCRIPTION:Band Practice
URL:https://kenorascottish.org/event/band-practice-113/
LOCATION:David Kejick Armouries\, 116 Artillery Way\, Kenora\, Ontario\, Canada
CATEGORIES:Practice
END:VEVENT
BEGIN:VEVENT
DTSTART;TZID=America/Winnipeg:20240205T183000
DTEND;TZID=America/Winnipeg:20240205T203000
DTSTAMP:20260424T002315
CREATED:20240204T235206Z
LAST-MODIFIED:20240204T235206Z
UID:2908-1707157800-1707165000@kenorascottish.org
SUMMARY:Band Practice - CANCELLED
DESCRIPTION:Band Practice – CANCELLED
URL:https://kenorascottish.org/event/band-practice-cancelled-31/
LOCATION:David Kejick Armouries\, 116 Artillery Way\, Kenora\, Ontario\, Canada
CATEGORIES:Practice
END:VEVENT
BEGIN:VEVENT
DTSTART;TZID=America/Winnipeg:20240129T183000
DTEND;TZID=America/Winnipeg:20240129T203000
DTSTAMP:20260424T002315
CREATED:20231224T191745Z
LAST-MODIFIED:20231224T191745Z
UID:2837-1706553000-1706560200@kenorascottish.org
SUMMARY:Band Practice
DESCRIPTION:Band Practice
URL:https://kenorascottish.org/event/band-practice-112/
LOCATION:David Kejick Armouries\, 116 Artillery Way\, Kenora\, Ontario\, Canada
CATEGORIES:Practice
END:VEVENT
BEGIN:VEVENT
DTSTART;VALUE=DATE:20240125
DTEND;VALUE=DATE:20240126
DTSTAMP:20260424T002315
CREATED:20231231T153449Z
LAST-MODIFIED:20231231T153449Z
UID:2839-1706140800-1706227199@kenorascottish.org
SUMMARY:Robbie Burns Day
DESCRIPTION:Robbie Burns Day
URL:https://kenorascottish.org/event/robbie-burns-day-3/
LOCATION:David Kejick Armouries\, 116 Artillery Way\, Kenora\, Ontario\, Canada
CATEGORIES:Celebrations
END:VEVENT
BEGIN:VEVENT
DTSTART;TZID=America/Winnipeg:20240122T183000
DTEND;TZID=America/Winnipeg:20240122T203000
DTSTAMP:20260424T002315
CREATED:20231224T191539Z
LAST-MODIFIED:20231224T191539Z
UID:2835-1705948200-1705955400@kenorascottish.org
SUMMARY:Band Practice
DESCRIPTION:Band Practice
URL:https://kenorascottish.org/event/band-practice-111/
LOCATION:David Kejick Armouries\, 116 Artillery Way\, Kenora\, Ontario\, Canada
CATEGORIES:Practice
END:VEVENT
BEGIN:VEVENT
DTSTART;TZID=America/Winnipeg:20240115T183000
DTEND;TZID=America/Winnipeg:20240115T203000
DTSTAMP:20260424T002315
CREATED:20231224T191502Z
LAST-MODIFIED:20240117T155150Z
UID:2833-1705343400-1705350600@kenorascottish.org
SUMMARY:Band Practice - Cancelled
DESCRIPTION:Band Practice – Cancelled
URL:https://kenorascottish.org/event/band-practice-110/
LOCATION:David Kejick Armouries\, 116 Artillery Way\, Kenora\, Ontario\, Canada
CATEGORIES:Practice
END:VEVENT
BEGIN:VEVENT
DTSTART;TZID=America/Winnipeg:20240108T183000
DTEND;TZID=America/Winnipeg:20240108T203000
DTSTAMP:20260424T002315
CREATED:20231224T191407Z
LAST-MODIFIED:20231224T191407Z
UID:2831-1704738600-1704745800@kenorascottish.org
SUMMARY:Band Practice
DESCRIPTION:Band Practice
URL:https://kenorascottish.org/event/band-practice-109/
LOCATION:David Kejick Armouries\, 116 Artillery Way\, Kenora\, Ontario\, Canada
CATEGORIES:Practice
END:VEVENT
BEGIN:VEVENT
DTSTART;VALUE=DATE:20240101
DTEND;VALUE=DATE:20240102
DTSTAMP:20260424T002315
CREATED:20230922T155733Z
LAST-MODIFIED:20230922T155919Z
UID:2773-1704067200-1704153599@kenorascottish.org
SUMMARY:Band Practice - CANCELLED
DESCRIPTION:HAPPY NEW YEAR!
URL:https://kenorascottish.org/event/band-practice-cancelled-30/
LOCATION:None
CATEGORIES:Practice
END:VEVENT
BEGIN:VEVENT
DTSTART;VALUE=DATE:20231225
DTEND;VALUE=DATE:20231226
DTSTAMP:20260424T002315
CREATED:20230922T153326Z
LAST-MODIFIED:20230922T155940Z
UID:2741-1703462400-1703548799@kenorascottish.org
SUMMARY:Band Practice - CANCELLED
DESCRIPTION:MERRY CHRISTMAS
URL:https://kenorascottish.org/event/band-practice-cancelled-29/
LOCATION:None
CATEGORIES:Practice
END:VEVENT
END:VCALENDAR