BEGIN:VCALENDAR
VERSION:2.0
PRODID:-//Kenora Scottish - ECPv6.15.20//NONSGML v1.0//EN
CALSCALE:GREGORIAN
METHOD:PUBLISH
X-ORIGINAL-URL:https://kenorascottish.org
X-WR-CALDESC:Events for Kenora Scottish
REFRESH-INTERVAL;VALUE=DURATION:PT1H
X-Robots-Tag:noindex
X-PUBLISHED-TTL:PT1H
BEGIN:VTIMEZONE
TZID:America/Winnipeg
BEGIN:DAYLIGHT
TZOFFSETFROM:-0600
TZOFFSETTO:-0500
TZNAME:CDT
DTSTART:20210314T080000
END:DAYLIGHT
BEGIN:STANDARD
TZOFFSETFROM:-0500
TZOFFSETTO:-0600
TZNAME:CST
DTSTART:20211107T070000
END:STANDARD
BEGIN:DAYLIGHT
TZOFFSETFROM:-0600
TZOFFSETTO:-0500
TZNAME:CDT
DTSTART:20220313T080000
END:DAYLIGHT
BEGIN:STANDARD
TZOFFSETFROM:-0500
TZOFFSETTO:-0600
TZNAME:CST
DTSTART:20221106T070000
END:STANDARD
BEGIN:DAYLIGHT
TZOFFSETFROM:-0600
TZOFFSETTO:-0500
TZNAME:CDT
DTSTART:20230312T080000
END:DAYLIGHT
BEGIN:STANDARD
TZOFFSETFROM:-0500
TZOFFSETTO:-0600
TZNAME:CST
DTSTART:20231105T070000
END:STANDARD
BEGIN:DAYLIGHT
TZOFFSETFROM:-0600
TZOFFSETTO:-0500
TZNAME:CDT
DTSTART:20240310T080000
END:DAYLIGHT
BEGIN:STANDARD
TZOFFSETFROM:-0500
TZOFFSETTO:-0600
TZNAME:CST
DTSTART:20241103T070000
END:STANDARD
END:VTIMEZONE
BEGIN:VEVENT
DTSTART;TZID=America/Winnipeg:20230731T180000
DTEND;TZID=America/Winnipeg:20230731T200000
DTSTAMP:20260425T194206
CREATED:20230704T141513Z
LAST-MODIFIED:20230704T141513Z
UID:2526-1690826400-1690833600@kenorascottish.org
SUMMARY:Band Practice - Cancelled
DESCRIPTION:Band Practice – CANCELLED
URL:https://kenorascottish.org/event/band-practice-cancelled-21/
LOCATION:David Kejick Armouries\, 116 Artillery Way\, Kenora\, Ontario\, Canada
CATEGORIES:Practice
END:VEVENT
BEGIN:VEVENT
DTSTART;TZID=America/Winnipeg:20230724T183000
DTEND;TZID=America/Winnipeg:20230724T200000
DTSTAMP:20260425T194206
CREATED:20230704T141423Z
LAST-MODIFIED:20230727T194949Z
UID:2524-1690223400-1690228800@kenorascottish.org
SUMMARY:Band Practice - Anicinabe Park
DESCRIPTION:Band Practice  – Anicinabe Park
URL:https://kenorascottish.org/event/band-practice-96/
LOCATION:Anicinabe Park\, Miikana Way\, Golf Course Road\, Kenora\, Ontario\, P9N 4H5\, Canada
CATEGORIES:Practice
END:VEVENT
BEGIN:VEVENT
DTSTART;TZID=America/Winnipeg:20230717T183000
DTEND;TZID=America/Winnipeg:20230717T193000
DTSTAMP:20260425T194206
CREATED:20230704T141354Z
LAST-MODIFIED:20230717T161258Z
UID:2522-1689618600-1689622200@kenorascottish.org
SUMMARY:Band Practice - Beatty Park
DESCRIPTION:Band Practice – Beatty Park\, Keewatin\, Ontario
URL:https://kenorascottish.org/event/band-practice-cancelled-20/
LOCATION:Beatty Park\, 10th Street\, Keewatin\, Ontario\, Canada
CATEGORIES:Practice
END:VEVENT
BEGIN:VEVENT
DTSTART;TZID=America/Winnipeg:20230710T180000
DTEND;TZID=America/Winnipeg:20230710T200000
DTSTAMP:20260425T194206
CREATED:20230704T141134Z
LAST-MODIFIED:20230717T160202Z
UID:2520-1689012000-1689019200@kenorascottish.org
SUMMARY:Band Practice - CANCELLED
DESCRIPTION:Band Practice  – CANCELLED
URL:https://kenorascottish.org/event/band-practice-95/
LOCATION:None
CATEGORIES:Practice
END:VEVENT
BEGIN:VEVENT
DTSTART;TZID=America/Winnipeg:20230703T180000
DTEND;TZID=America/Winnipeg:20230703T200000
DTSTAMP:20260425T194206
CREATED:20230704T141027Z
LAST-MODIFIED:20230704T141027Z
UID:2518-1688407200-1688414400@kenorascottish.org
SUMMARY:Band Practice - Cancelled
DESCRIPTION:Band Practice – CANCELLED
URL:https://kenorascottish.org/event/band-practice-cancelled-19/
LOCATION:David Kejick Armouries\, 116 Artillery Way\, Kenora\, Ontario\, Canada
CATEGORIES:Practice
END:VEVENT
BEGIN:VEVENT
DTSTART;TZID=America/Winnipeg:20230626T180000
DTEND;TZID=America/Winnipeg:20230626T200000
DTSTAMP:20260425T194206
CREATED:20230428T153328Z
LAST-MODIFIED:20230428T153328Z
UID:2508-1687802400-1687809600@kenorascottish.org
SUMMARY:Band Practice
DESCRIPTION:Band Practice
URL:https://kenorascottish.org/event/band-practice-94/
LOCATION:David Kejick Armouries\, 116 Artillery Way\, Kenora\, Ontario\, Canada
CATEGORIES:Practice
END:VEVENT
BEGIN:VEVENT
DTSTART;TZID=America/Winnipeg:20230619T180000
DTEND;TZID=America/Winnipeg:20230619T200000
DTSTAMP:20260425T194206
CREATED:20230428T153259Z
LAST-MODIFIED:20230428T153259Z
UID:2506-1687197600-1687204800@kenorascottish.org
SUMMARY:Band Practice
DESCRIPTION:Band Practice
URL:https://kenorascottish.org/event/band-practice-93/
LOCATION:David Kejick Armouries\, 116 Artillery Way\, Kenora\, Ontario\, Canada
CATEGORIES:Practice
END:VEVENT
BEGIN:VEVENT
DTSTART;TZID=America/Winnipeg:20230612T180000
DTEND;TZID=America/Winnipeg:20230612T200000
DTSTAMP:20260425T194206
CREATED:20230428T153233Z
LAST-MODIFIED:20230428T153233Z
UID:2504-1686592800-1686600000@kenorascottish.org
SUMMARY:Band Practice
DESCRIPTION:Band Practice
URL:https://kenorascottish.org/event/band-practice-92/
LOCATION:David Kejick Armouries\, 116 Artillery Way\, Kenora\, Ontario\, Canada
CATEGORIES:Practice
END:VEVENT
BEGIN:VEVENT
DTSTART;TZID=America/Winnipeg:20230605T180000
DTEND;TZID=America/Winnipeg:20230605T200000
DTSTAMP:20260425T194206
CREATED:20230428T152928Z
LAST-MODIFIED:20230428T152928Z
UID:2502-1685988000-1685995200@kenorascottish.org
SUMMARY:Band Practice
DESCRIPTION:Band Practice
URL:https://kenorascottish.org/event/band-practice-91/
LOCATION:David Kejick Armouries\, 116 Artillery Way\, Kenora\, Ontario\, Canada
CATEGORIES:Practice
END:VEVENT
BEGIN:VEVENT
DTSTART;TZID=America/Winnipeg:20230529T180000
DTEND;TZID=America/Winnipeg:20230529T200000
DTSTAMP:20260425T194206
CREATED:20230428T152343Z
LAST-MODIFIED:20230428T152519Z
UID:2500-1685383200-1685390400@kenorascottish.org
SUMMARY:Band Practice
DESCRIPTION:Band Practice
URL:https://kenorascottish.org/event/band-practice-90/
LOCATION:David Kejick Armouries\, 116 Artillery Way\, Kenora\, Ontario\, Canada
CATEGORIES:Practice
END:VEVENT
BEGIN:VEVENT
DTSTART;TZID=America/Winnipeg:20230522T180000
DTEND;TZID=America/Winnipeg:20230522T200000
DTSTAMP:20260425T194206
CREATED:20230428T152312Z
LAST-MODIFIED:20230428T152558Z
UID:2498-1684778400-1684785600@kenorascottish.org
SUMMARY:Band Practice - CANCELLED
DESCRIPTION:Band Practice – CANCELLED
URL:https://kenorascottish.org/event/band-practice-cancelled-17/
LOCATION:David Kejick Armouries\, 116 Artillery Way\, Kenora\, Ontario\, Canada
CATEGORIES:Practice
END:VEVENT
BEGIN:VEVENT
DTSTART;TZID=America/Winnipeg:20230515T180000
DTEND;TZID=America/Winnipeg:20230515T200000
DTSTAMP:20260425T194206
CREATED:20230428T152212Z
LAST-MODIFIED:20230428T152618Z
UID:2496-1684173600-1684180800@kenorascottish.org
SUMMARY:Band Practice
DESCRIPTION:Band Practice
URL:https://kenorascottish.org/event/band-practice-89/
LOCATION:David Kejick Armouries\, 116 Artillery Way\, Kenora\, Ontario\, Canada
CATEGORIES:Practice
END:VEVENT
BEGIN:VEVENT
DTSTART;TZID=America/Winnipeg:20230508T180000
DTEND;TZID=America/Winnipeg:20230508T200000
DTSTAMP:20260425T194206
CREATED:20230428T152138Z
LAST-MODIFIED:20230428T152724Z
UID:2494-1683568800-1683576000@kenorascottish.org
SUMMARY:Band Practice
DESCRIPTION:Band Practice
URL:https://kenorascottish.org/event/band-practice-88/
LOCATION:David Kejick Armouries\, 116 Artillery Way\, Kenora\, Ontario\, Canada
CATEGORIES:Practice
END:VEVENT
BEGIN:VEVENT
DTSTART;TZID=America/Winnipeg:20230501T180000
DTEND;TZID=America/Winnipeg:20230501T200000
DTSTAMP:20260425T194206
CREATED:20230428T152029Z
LAST-MODIFIED:20230428T152744Z
UID:2492-1682964000-1682971200@kenorascottish.org
SUMMARY:Band Practice
DESCRIPTION:Band Practice
URL:https://kenorascottish.org/event/band-practice-87/
LOCATION:David Kejick Armouries\, 116 Artillery Way\, Kenora\, Ontario\, Canada
CATEGORIES:Practice
END:VEVENT
BEGIN:VEVENT
DTSTART;TZID=America/Winnipeg:20230424T180000
DTEND;TZID=America/Winnipeg:20230424T200000
DTSTAMP:20260425T194206
CREATED:20230309T213455Z
LAST-MODIFIED:20230428T152950Z
UID:2365-1682359200-1682366400@kenorascottish.org
SUMMARY:Band Practice
DESCRIPTION:Band Practice
URL:https://kenorascottish.org/event/band-practice-86/
LOCATION:David Kejick Armouries\, 116 Artillery Way\, Kenora\, Ontario\, Canada
CATEGORIES:Practice
END:VEVENT
BEGIN:VEVENT
DTSTART;TZID=America/Winnipeg:20230417T180000
DTEND;TZID=America/Winnipeg:20230417T200000
DTSTAMP:20260425T194206
CREATED:20230309T213426Z
LAST-MODIFIED:20230428T153011Z
UID:2363-1681754400-1681761600@kenorascottish.org
SUMMARY:Band Practice
DESCRIPTION:Band Practice
URL:https://kenorascottish.org/event/band-practice-copy/
LOCATION:David Kejick Armouries\, 116 Artillery Way\, Kenora\, Ontario\, Canada
CATEGORIES:Practice
END:VEVENT
BEGIN:VEVENT
DTSTART;TZID=America/Winnipeg:20230410T180000
DTEND;TZID=America/Winnipeg:20230410T200000
DTSTAMP:20260425T194206
CREATED:20230309T213357Z
LAST-MODIFIED:20230428T153034Z
UID:2361-1681149600-1681156800@kenorascottish.org
SUMMARY:Band Practice - CANCELLED
DESCRIPTION:Band Practice – CANCELLED
URL:https://kenorascottish.org/event/band-practice-85/
LOCATION:David Kejick Armouries\, 116 Artillery Way\, Kenora\, Ontario\, Canada
CATEGORIES:Practice
END:VEVENT
BEGIN:VEVENT
DTSTART;TZID=America/Winnipeg:20230403T180000
DTEND;TZID=America/Winnipeg:20230403T200000
DTSTAMP:20260425T194206
CREATED:20230309T213254Z
LAST-MODIFIED:20230428T153101Z
UID:2359-1680544800-1680552000@kenorascottish.org
SUMMARY:Band Practice
DESCRIPTION:Band Practice
URL:https://kenorascottish.org/event/band-practice-84/
LOCATION:David Kejick Armouries\, 116 Artillery Way\, Kenora\, Ontario\, Canada
CATEGORIES:Practice
END:VEVENT
BEGIN:VEVENT
DTSTART;TZID=America/Winnipeg:20230327T060000
DTEND;TZID=America/Winnipeg:20230327T200000
DTSTAMP:20260425T194206
CREATED:20230214T162503Z
LAST-MODIFIED:20230214T162503Z
UID:2356-1679896800-1679947200@kenorascottish.org
SUMMARY:Band Practice
DESCRIPTION:Band Practice
URL:https://kenorascottish.org/event/band-practice-83/
LOCATION:David Kejick Armouries\, 116 Artillery Way\, Kenora\, Ontario\, Canada
CATEGORIES:Practice
END:VEVENT
BEGIN:VEVENT
DTSTART;TZID=America/Winnipeg:20230320T060000
DTEND;TZID=America/Winnipeg:20230320T200000
DTSTAMP:20260425T194206
CREATED:20230214T162430Z
LAST-MODIFIED:20230214T162430Z
UID:2354-1679292000-1679342400@kenorascottish.org
SUMMARY:Band Practice
DESCRIPTION:Band Practice
URL:https://kenorascottish.org/event/band-practice-82/
LOCATION:David Kejick Armouries\, 116 Artillery Way\, Kenora\, Ontario\, Canada
CATEGORIES:Practice
END:VEVENT
BEGIN:VEVENT
DTSTART;TZID=America/Winnipeg:20230313T060000
DTEND;TZID=America/Winnipeg:20230313T200000
DTSTAMP:20260425T194206
CREATED:20230214T162400Z
LAST-MODIFIED:20230214T162400Z
UID:2352-1678687200-1678737600@kenorascottish.org
SUMMARY:Band Practice
DESCRIPTION:Band Practice
URL:https://kenorascottish.org/event/band-practice-81/
LOCATION:David Kejick Armouries\, 116 Artillery Way\, Kenora\, Ontario\, Canada
CATEGORIES:Practice
END:VEVENT
BEGIN:VEVENT
DTSTART;TZID=America/Winnipeg:20230306T060000
DTEND;TZID=America/Winnipeg:20230306T200000
DTSTAMP:20260425T194206
CREATED:20230214T162133Z
LAST-MODIFIED:20230214T162133Z
UID:2350-1678082400-1678132800@kenorascottish.org
SUMMARY:Band Practice
DESCRIPTION:Band Practice
URL:https://kenorascottish.org/event/band-practice-80/
LOCATION:David Kejick Armouries\, 116 Artillery Way\, Kenora\, Ontario\, Canada
CATEGORIES:Practice
END:VEVENT
BEGIN:VEVENT
DTSTART;TZID=America/Winnipeg:20230227T060000
DTEND;TZID=America/Winnipeg:20230227T200000
DTSTAMP:20260425T194206
CREATED:20230127T204144Z
LAST-MODIFIED:20230214T162159Z
UID:2266-1677477600-1677528000@kenorascottish.org
SUMMARY:Band Practice
DESCRIPTION:Band Practice
URL:https://kenorascottish.org/event/band-practice-79/
LOCATION:David Kejick Armouries\, 116 Artillery Way\, Kenora\, Ontario\, Canada
CATEGORIES:Practice
END:VEVENT
BEGIN:VEVENT
DTSTART;TZID=America/Winnipeg:20230220T060000
DTEND;TZID=America/Winnipeg:20230220T200000
DTSTAMP:20260425T194206
CREATED:20230127T204113Z
LAST-MODIFIED:20230214T162216Z
UID:2264-1676872800-1676923200@kenorascottish.org
SUMMARY:Band Practice- Cancelled
DESCRIPTION:Band Practice – Cancelled due to Family Day
URL:https://kenorascottish.org/event/band-practice-78/
LOCATION:David Kejick Armouries\, 116 Artillery Way\, Kenora\, Ontario\, Canada
CATEGORIES:Practice
END:VEVENT
BEGIN:VEVENT
DTSTART;TZID=America/Winnipeg:20230213T060000
DTEND;TZID=America/Winnipeg:20230213T200000
DTSTAMP:20260425T194206
CREATED:20230127T204050Z
LAST-MODIFIED:20230214T162237Z
UID:2262-1676268000-1676318400@kenorascottish.org
SUMMARY:Band Practice
DESCRIPTION:Band Practice
URL:https://kenorascottish.org/event/band-practice-77/
LOCATION:David Kejick Armouries\, 116 Artillery Way\, Kenora\, Ontario\, Canada
CATEGORIES:Practice
END:VEVENT
BEGIN:VEVENT
DTSTART;TZID=America/Winnipeg:20230206T060000
DTEND;TZID=America/Winnipeg:20230206T200000
DTSTAMP:20260425T194206
CREATED:20230127T204025Z
LAST-MODIFIED:20230214T162319Z
UID:2260-1675663200-1675713600@kenorascottish.org
SUMMARY:Band Practice
DESCRIPTION:Band Practice
URL:https://kenorascottish.org/event/band-practice-76/
LOCATION:David Kejick Armouries\, 116 Artillery Way\, Kenora\, Ontario\, Canada
CATEGORIES:Practice
END:VEVENT
BEGIN:VEVENT
DTSTART;TZID=America/Winnipeg:20230130T060000
DTEND;TZID=America/Winnipeg:20230130T200000
DTSTAMP:20260425T194206
CREATED:20230127T203951Z
LAST-MODIFIED:20230214T162301Z
UID:2258-1675058400-1675108800@kenorascottish.org
SUMMARY:Band Practice
DESCRIPTION:Band Practice
URL:https://kenorascottish.org/event/band-practice-75/
LOCATION:David Kejick Armouries\, 116 Artillery Way\, Kenora\, Ontario\, Canada
CATEGORIES:Practice
END:VEVENT
BEGIN:VEVENT
DTSTART;TZID=America/Winnipeg:20230128T090000
DTEND;TZID=America/Winnipeg:20230128T150000
DTSTAMP:20260425T194206
CREATED:20230127T204340Z
LAST-MODIFIED:20230922T152808Z
UID:2268-1674896400-1674918000@kenorascottish.org
SUMMARY:Band Workshop
DESCRIPTION:Band Workshop – All Day
URL:https://kenorascottish.org/event/band-workshop/
LOCATION:Kenora Legion\, 300 McClelland Avenue\, Kenora\, Ontario\, P9N 1T7\, Canada
CATEGORIES:Practice
END:VEVENT
BEGIN:VEVENT
DTSTART;TZID=America/Winnipeg:20221107T180000
DTEND;TZID=America/Winnipeg:20221107T200000
DTSTAMP:20260425T194206
CREATED:20221028T210800Z
LAST-MODIFIED:20221028T211217Z
UID:2209-1667844000-1667851200@kenorascottish.org
SUMMARY:Band Practice
DESCRIPTION:Band Practice – In-Person
URL:https://kenorascottish.org/event/band-practice-66/
LOCATION:David Kejick Armouries\, 116 Artillery Way\, Kenora\, Ontario\, Canada
CATEGORIES:Practice
END:VEVENT
BEGIN:VEVENT
DTSTART;TZID=America/Winnipeg:20221031T180000
DTEND;TZID=America/Winnipeg:20221031T193000
DTSTAMP:20260425T194206
CREATED:20221028T210205Z
LAST-MODIFIED:20221028T210205Z
UID:2207-1667239200-1667244600@kenorascottish.org
SUMMARY:Band Practice - CANCELLED
DESCRIPTION:Band Practice – CANCELLED
URL:https://kenorascottish.org/event/band-practice-cancelled-13/
LOCATION:None
CATEGORIES:Practice
END:VEVENT
END:VCALENDAR