BEGIN:VCALENDAR
VERSION:2.0
PRODID:-//Kenora Scottish - ECPv6.15.20//NONSGML v1.0//EN
CALSCALE:GREGORIAN
METHOD:PUBLISH
X-WR-CALNAME:Kenora Scottish
X-ORIGINAL-URL:https://kenorascottish.org
X-WR-CALDESC:Events for Kenora Scottish
REFRESH-INTERVAL;VALUE=DURATION:PT1H
X-Robots-Tag:noindex
X-PUBLISHED-TTL:PT1H
BEGIN:VTIMEZONE
TZID:America/Winnipeg
BEGIN:DAYLIGHT
TZOFFSETFROM:-0600
TZOFFSETTO:-0500
TZNAME:CDT
DTSTART:20220313T080000
END:DAYLIGHT
BEGIN:STANDARD
TZOFFSETFROM:-0500
TZOFFSETTO:-0600
TZNAME:CST
DTSTART:20221106T070000
END:STANDARD
BEGIN:DAYLIGHT
TZOFFSETFROM:-0600
TZOFFSETTO:-0500
TZNAME:CDT
DTSTART:20230312T080000
END:DAYLIGHT
BEGIN:STANDARD
TZOFFSETFROM:-0500
TZOFFSETTO:-0600
TZNAME:CST
DTSTART:20231105T070000
END:STANDARD
BEGIN:DAYLIGHT
TZOFFSETFROM:-0600
TZOFFSETTO:-0500
TZNAME:CDT
DTSTART:20240310T080000
END:DAYLIGHT
BEGIN:STANDARD
TZOFFSETFROM:-0500
TZOFFSETTO:-0600
TZNAME:CST
DTSTART:20241103T070000
END:STANDARD
BEGIN:DAYLIGHT
TZOFFSETFROM:-0600
TZOFFSETTO:-0500
TZNAME:CDT
DTSTART:20250309T080000
END:DAYLIGHT
BEGIN:STANDARD
TZOFFSETFROM:-0500
TZOFFSETTO:-0600
TZNAME:CST
DTSTART:20251102T070000
END:STANDARD
BEGIN:DAYLIGHT
TZOFFSETFROM:-0600
TZOFFSETTO:-0500
TZNAME:CDT
DTSTART:20260308T080000
END:DAYLIGHT
BEGIN:STANDARD
TZOFFSETFROM:-0500
TZOFFSETTO:-0600
TZNAME:CST
DTSTART:20261101T070000
END:STANDARD
END:VTIMEZONE
BEGIN:VEVENT
DTSTART;VALUE=DATE:20251111
DTEND;VALUE=DATE:20251112
DTSTAMP:20260423T210250
CREATED:20251014T001119Z
LAST-MODIFIED:20251014T001119Z
UID:3395-1762819200-1762905599@kenorascottish.org
SUMMARY:Remembrance Day
DESCRIPTION:Remembrance Day
URL:https://kenorascottish.org/event/remembrance-day-3/
CATEGORIES:Parades
END:VEVENT
BEGIN:VEVENT
DTSTART;VALUE=DATE:20250701
DTEND;VALUE=DATE:20250702
DTSTAMP:20260423T210250
CREATED:20250311T162353Z
LAST-MODIFIED:20250606T163006Z
UID:3081-1751328000-1751414399@kenorascottish.org
SUMMARY:July 1 - Canada Day
DESCRIPTION:July 1 – Canada Day \nKenora Parade – Noon \nMather-Walls House 2:00 p.m
URL:https://kenorascottish.org/event/july-1-canada-day/
LOCATION:None
CATEGORIES:Parades
END:VEVENT
BEGIN:VEVENT
DTSTART;TZID=America/Winnipeg:20250610T180000
DTEND;TZID=America/Winnipeg:20250610T200000
DTSTAMP:20260423T210250
CREATED:20250311T161934Z
LAST-MODIFIED:20250311T161934Z
UID:3075-1749578400-1749585600@kenorascottish.org
SUMMARY:Annual Cadet Review
DESCRIPTION:Annual Cadet Review
URL:https://kenorascottish.org/event/annual-cadet-review-2/
LOCATION:David Kejick Armouries\, 116 Artillery Way\, Kenora\, Ontario\, Canada
CATEGORIES:Parades
END:VEVENT
BEGIN:VEVENT
DTSTART;VALUE=DATE:20240701
DTEND;VALUE=DATE:20240702
DTSTAMP:20260423T210250
CREATED:20240510T151325Z
LAST-MODIFIED:20240510T151325Z
UID:2987-1719792000-1719878399@kenorascottish.org
SUMMARY:Canada Day
DESCRIPTION:Canada Day – Kenora Parade at Harbourfront at noon \nMather-Walls House Strawberry Tea at 2:00 pm.
URL:https://kenorascottish.org/event/canada-day-3/
LOCATION:The Muse Park\, Bernier Drive\, Kenora\, Ontario\, P9N 1S4\, Canada
CATEGORIES:Celebrations,Parades
END:VEVENT
BEGIN:VEVENT
DTSTART;TZID=America/Winnipeg:20240620T183000
DTEND;TZID=America/Winnipeg:20240620T193000
DTSTAMP:20260423T210250
CREATED:20240510T151908Z
LAST-MODIFIED:20240510T151908Z
UID:2991-1718908200-1718911800@kenorascottish.org
SUMMARY:Beaver Brae Secondary School Graduation
DESCRIPTION:Beaver Brae Secondary School Graduation – Kenora Harbourfront
URL:https://kenorascottish.org/event/beaver-brae-secondary-school-graduation/
LOCATION:The Muse Park\, Bernier Drive\, Kenora\, Ontario\, P9N 1S4\, Canada
CATEGORIES:Celebrations,Parades
END:VEVENT
BEGIN:VEVENT
DTSTART;TZID=America/Winnipeg:20240611T180000
DTEND;TZID=America/Winnipeg:20240611T193000
DTSTAMP:20260423T210250
CREATED:20240510T151634Z
LAST-MODIFIED:20240510T151634Z
UID:2989-1718128800-1718134200@kenorascottish.org
SUMMARY:Annual Cadet Review
DESCRIPTION:Annual Cadet Review – Private David Kejick\, DCM\, Armoury\, Kenora
URL:https://kenorascottish.org/event/annual-cadet-review/
LOCATION:David Kejick Armouries\, 116 Artillery Way\, Kenora\, Ontario\, Canada
CATEGORIES:Celebrations,Parades
END:VEVENT
BEGIN:VEVENT
DTSTART;VALUE=DATE:20230701
DTEND;VALUE=DATE:20230702
DTSTAMP:20260423T210250
CREATED:20230428T153625Z
LAST-MODIFIED:20230704T141719Z
UID:2510-1688169600-1688255999@kenorascottish.org
SUMMARY:Canada Day
DESCRIPTION:Canada Day – Kenora Parade at noon – Kenora Harbourfront and Mather-Walls House Strawberry Tea at 2:00 pm.
URL:https://kenorascottish.org/event/canada-day-2/
LOCATION:The Muse Park\, Bernier Drive\, Kenora\, Ontario\, P9N 1S4\, Canada
CATEGORIES:Parades
END:VEVENT
END:VCALENDAR