BEGIN:VCALENDAR
VERSION:2.0
PRODID:-//Kenora Scottish - ECPv6.15.20//NONSGML v1.0//EN
CALSCALE:GREGORIAN
METHOD:PUBLISH
X-ORIGINAL-URL:https://kenorascottish.org
X-WR-CALDESC:Events for Kenora Scottish
REFRESH-INTERVAL;VALUE=DURATION:PT1H
X-Robots-Tag:noindex
X-PUBLISHED-TTL:PT1H
BEGIN:VTIMEZONE
TZID:America/Winnipeg
BEGIN:DAYLIGHT
TZOFFSETFROM:-0600
TZOFFSETTO:-0500
TZNAME:CDT
DTSTART:20190310T080000
END:DAYLIGHT
BEGIN:STANDARD
TZOFFSETFROM:-0500
TZOFFSETTO:-0600
TZNAME:CST
DTSTART:20191103T070000
END:STANDARD
BEGIN:DAYLIGHT
TZOFFSETFROM:-0600
TZOFFSETTO:-0500
TZNAME:CDT
DTSTART:20200308T080000
END:DAYLIGHT
BEGIN:STANDARD
TZOFFSETFROM:-0500
TZOFFSETTO:-0600
TZNAME:CST
DTSTART:20201101T070000
END:STANDARD
BEGIN:DAYLIGHT
TZOFFSETFROM:-0600
TZOFFSETTO:-0500
TZNAME:CDT
DTSTART:20210314T080000
END:DAYLIGHT
BEGIN:STANDARD
TZOFFSETFROM:-0500
TZOFFSETTO:-0600
TZNAME:CST
DTSTART:20211107T070000
END:STANDARD
BEGIN:DAYLIGHT
TZOFFSETFROM:-0600
TZOFFSETTO:-0500
TZNAME:CDT
DTSTART:20220313T080000
END:DAYLIGHT
BEGIN:STANDARD
TZOFFSETFROM:-0500
TZOFFSETTO:-0600
TZNAME:CST
DTSTART:20221106T070000
END:STANDARD
BEGIN:DAYLIGHT
TZOFFSETFROM:-0600
TZOFFSETTO:-0500
TZNAME:CDT
DTSTART:20230312T080000
END:DAYLIGHT
BEGIN:STANDARD
TZOFFSETFROM:-0500
TZOFFSETTO:-0600
TZNAME:CST
DTSTART:20231105T070000
END:STANDARD
BEGIN:DAYLIGHT
TZOFFSETFROM:-0600
TZOFFSETTO:-0500
TZNAME:CDT
DTSTART:20240310T080000
END:DAYLIGHT
BEGIN:STANDARD
TZOFFSETFROM:-0500
TZOFFSETTO:-0600
TZNAME:CST
DTSTART:20241103T070000
END:STANDARD
BEGIN:DAYLIGHT
TZOFFSETFROM:-0600
TZOFFSETTO:-0500
TZNAME:CDT
DTSTART:20250309T080000
END:DAYLIGHT
BEGIN:STANDARD
TZOFFSETFROM:-0500
TZOFFSETTO:-0600
TZNAME:CST
DTSTART:20251102T070000
END:STANDARD
BEGIN:DAYLIGHT
TZOFFSETFROM:-0600
TZOFFSETTO:-0500
TZNAME:CDT
DTSTART:20260308T080000
END:DAYLIGHT
BEGIN:STANDARD
TZOFFSETFROM:-0500
TZOFFSETTO:-0600
TZNAME:CST
DTSTART:20261101T070000
END:STANDARD
END:VTIMEZONE
BEGIN:VEVENT
DTSTART;TZID=America/Winnipeg:20251020T183000
DTEND;TZID=America/Winnipeg:20251020T203000
DTSTAMP:20260423T223611
CREATED:20251014T000822Z
LAST-MODIFIED:20251014T001144Z
UID:3387-1760985000-1760992200@kenorascottish.org
SUMMARY:Band Practice & Annual General Meeting
DESCRIPTION:Band Practice & Annual General Meeting
URL:https://kenorascottish.org/event/band-practice-annual-general-meeting/
CATEGORIES:Band Meeting,Practice
END:VEVENT
BEGIN:VEVENT
DTSTART;TZID=America/Winnipeg:20211122T193000
DTEND;TZID=America/Winnipeg:20211122T200000
DTSTAMP:20260423T223611
CREATED:20211115T002307Z
LAST-MODIFIED:20211115T002428Z
UID:2082-1637609400-1637611200@kenorascottish.org
SUMMARY:Band Annual General Meeting
DESCRIPTION:Band Annual General Meeting – Kenora Legion & Online Zoom Meeting \n(Following band practice) \n 
URL:https://kenorascottish.org/event/band-annual-general-meeting/
LOCATION:Kenora Legion\, 300 McClelland Avenue\, Kenora\, Ontario\, P9N 1T7\, Canada
CATEGORIES:Band Meeting
END:VEVENT
BEGIN:VEVENT
DTSTART;TZID=America/Winnipeg:20210125T180000
DTEND;TZID=America/Winnipeg:20210125T190000
DTSTAMP:20260423T223611
CREATED:20201230T173724Z
LAST-MODIFIED:20210124T142330Z
UID:1348-1611597600-1611601200@kenorascottish.org
SUMMARY:Band Meeting
DESCRIPTION:Band Meeting \n 
URL:https://kenorascottish.org/event/band-practice-11/
LOCATION:Online Zoom\, From KSPB computer\, Canada
CATEGORIES:Band Meeting
END:VEVENT
BEGIN:VEVENT
DTSTART;TZID=America/Winnipeg:20210118T180000
DTEND;TZID=America/Winnipeg:20210118T183000
DTSTAMP:20260423T223611
CREATED:20201230T173651Z
LAST-MODIFIED:20210124T142654Z
UID:1346-1610992800-1610994600@kenorascottish.org
SUMMARY:Band Executive Meeting
DESCRIPTION:Band Executive Meeting \n 
URL:https://kenorascottish.org/event/band-practice-10/
LOCATION:Online Zoom\, From KSPB computer\, Canada
CATEGORIES:Band Meeting
END:VEVENT
BEGIN:VEVENT
DTSTART;TZID=America/Winnipeg:20201123T180000
DTEND;TZID=America/Winnipeg:20201123T190000
DTSTAMP:20260423T223611
CREATED:20201025T163239Z
LAST-MODIFIED:20201113T171548Z
UID:816-1606154400-1606158000@kenorascottish.org
SUMMARY:Band Annual General Meeting
DESCRIPTION:Band Annual General Meeting \n 
URL:https://kenorascottish.org/event/agm-2020/
LOCATION:Online Zoom\, From KSPB computer\, Canada
CATEGORIES:Band Meeting
END:VEVENT
END:VCALENDAR